BEGIN:VCALENDAR
VERSION:2.0
PRODID:-//Withrow Park Farmers&#039; Market - ECPv6.15.17//NONSGML v1.0//EN
CALSCALE:GREGORIAN
METHOD:PUBLISH
X-WR-CALNAME:Withrow Park Farmers&#039; Market
X-ORIGINAL-URL:https://withrowmarket.ca
X-WR-CALDESC:Events for Withrow Park Farmers&#039; Market
REFRESH-INTERVAL;VALUE=DURATION:PT1H
X-Robots-Tag:noindex
X-PUBLISHED-TTL:PT1H
BEGIN:VTIMEZONE
TZID:America/Toronto
BEGIN:DAYLIGHT
TZOFFSETFROM:-0500
TZOFFSETTO:-0400
TZNAME:EDT
DTSTART:20210314T070000
END:DAYLIGHT
BEGIN:STANDARD
TZOFFSETFROM:-0400
TZOFFSETTO:-0500
TZNAME:EST
DTSTART:20211107T060000
END:STANDARD
BEGIN:DAYLIGHT
TZOFFSETFROM:-0500
TZOFFSETTO:-0400
TZNAME:EDT
DTSTART:20220313T070000
END:DAYLIGHT
BEGIN:STANDARD
TZOFFSETFROM:-0400
TZOFFSETTO:-0500
TZNAME:EST
DTSTART:20221106T060000
END:STANDARD
BEGIN:DAYLIGHT
TZOFFSETFROM:-0500
TZOFFSETTO:-0400
TZNAME:EDT
DTSTART:20230312T070000
END:DAYLIGHT
BEGIN:STANDARD
TZOFFSETFROM:-0400
TZOFFSETTO:-0500
TZNAME:EST
DTSTART:20231105T060000
END:STANDARD
BEGIN:DAYLIGHT
TZOFFSETFROM:-0500
TZOFFSETTO:-0400
TZNAME:EDT
DTSTART:20240310T070000
END:DAYLIGHT
BEGIN:STANDARD
TZOFFSETFROM:-0400
TZOFFSETTO:-0500
TZNAME:EST
DTSTART:20241103T060000
END:STANDARD
BEGIN:DAYLIGHT
TZOFFSETFROM:-0500
TZOFFSETTO:-0400
TZNAME:EDT
DTSTART:20250309T070000
END:DAYLIGHT
BEGIN:STANDARD
TZOFFSETFROM:-0400
TZOFFSETTO:-0500
TZNAME:EST
DTSTART:20251102T060000
END:STANDARD
END:VTIMEZONE
BEGIN:VEVENT
DTSTART;TZID=America/Toronto:20240914T090000
DTEND;TZID=America/Toronto:20240914T130000
DTSTAMP:20260421T052939
CREATED:20240910T012658Z
LAST-MODIFIED:20240910T012658Z
UID:7384-1726304400-1726318800@withrowmarket.ca
SUMMARY:Bike Donation Drop-off Event
DESCRIPTION:Have a bike that you’ve outgrown? Bring it to the Cycle Toronto tent on Saturday\, September 14th and it will be matched with someone who needs a set a wheels to get around! \nSee details at https://bikematchwcn.com/
URL:https://withrowmarket.ca/event/bike-donation-drop-off-event/
LOCATION:Withrow Park Farmers’ Market\, 725 Logan Avenue\, Toronto
CATEGORIES:Support our Community,Zero Waste
ATTACH;FMTTYPE=image/jpeg:https://withrowmarket.ca/wp-content/uploads/2024/09/Bikes-Sept-Presentation.jpg
END:VEVENT
BEGIN:VEVENT
DTSTART;TZID=America/Toronto:20221008T090000
DTEND;TZID=America/Toronto:20221008T130000
DTSTAMP:20260421T052939
CREATED:20221003T170712Z
LAST-MODIFIED:20221003T171034Z
UID:6270-1665219600-1665234000@withrowmarket.ca
SUMMARY:Winter Clothing Drive
DESCRIPTION:Colder weather is looming\, and we’re hosting a clothing drive for warm winter clothing for New Circles. \nAn estimated 8\,500 people will go to New Circles over the next six months for winter clothing. You can help “Keep Toronto Warm” by donating gently-used coats\, jackets\, snow pants\, snowsuits\, winter accessories\, or any good quality\, seasonally appropriate clothing. \nNew Circles helps newcomers\, refugees and others living on a low income meet their basic clothing needs. \n—-\nCLOTHING DRIVE:\nWe will be hosting a clothing drive at our Coffee Tent at Withrow Park during our last two farmers’ markets on October 8 and October 15. 9am to 1pm – rain or shine! \nYour donations help reduce textile waste and helps the environment – giving your used clothes a second life outside of a landfill. ♻️ \nACCEPTED ITEMS:\n• Sweaters\, sweatshirts\, long-sleeved shirts\, pants\, leggings\, long underwear\, and any type of seasonally appropriate clothing\n• Winter coats (all ages)\, jackets\, snow pants\, children’s snowsuits\, and adult snowsuits\n• Boots (all ages) and other warm footwear\n• Accessories like hats\, gloves\, mittens and scarves \nALL ITEMS MUST BE:\nClean and in good condition.\nWe can not accept items that are ripped\, stained\, or are in need of repair.\nThank you for your understanding! \n—-\nABOUT NEW CIRCLES:\nNew Circles Community Services is an innovative\, community- based agency that provides clothing\, employment training\, and social programs to newcomers\, refugees and others living on a low income. \nNew Circles’ GLOW (Gently Loved Outfits to Wear) is the largest clothing bank in Toronto\, serving more than 13\,000 people a year. They rely on generous clothing donors like you to ensure everyone who visits GLOW can go home with the clothing they need to feel warm\, healthy\, and dignified.
URL:https://withrowmarket.ca/event/winter-clothing-drive/
LOCATION:Withrow Park Farmers’ Market\, 725 Logan Avenue\, Toronto
CATEGORIES:Support our Community,Zero Waste
ATTACH;FMTTYPE=image/jpeg:https://withrowmarket.ca/wp-content/uploads/2022/10/winter-clothing-drive.jpg
END:VEVENT
BEGIN:VEVENT
DTSTART;TZID=America/Toronto:20220917T090000
DTEND;TZID=America/Toronto:20220917T130000
DTSTAMP:20260421T052939
CREATED:20220912T221936Z
LAST-MODIFIED:20220912T225041Z
UID:6230-1663405200-1663419600@withrowmarket.ca
SUMMARY:Send a kid to camp!
DESCRIPTION:Lonny’s Smile is an amazing local organization that helps send kids with congenital heart disease to camp. The camp gives kids a chance to forget about their illness for a week and experience the magic of summer camp\, at zero cost to their families.\n\n\n\n  \nUnfortunately\, the camp was closed for the past two summers due to Covid so being able to reopening this summer is even more impactful because of the isolation these kids have had during the pandemic.\n\n\n\n  \nVisit Withrow Market this Saturday\, September 17 and help send a kid with congenital heart disease to camp! ❤️ Visit the Lonny’s Smile tent for fun kids activities and face painting. Many of our vendors have also provided products with proceeds or a portion of proceeds going to Lonny’s Smile and sending kids to camp.\n\n\n\n  \nlonnyssmile.org\ninstagram.com/lonnys.smile
URL:https://withrowmarket.ca/event/send-a-kid-to-camp/
LOCATION:Withrow Park Farmers’ Market\, 725 Logan Avenue\, Toronto
CATEGORIES:Family Activity,Support our Community
ATTACH;FMTTYPE=image/jpeg:https://withrowmarket.ca/wp-content/uploads/2022/09/unnamed-2.jpg
END:VEVENT
BEGIN:VEVENT
DTSTART;TZID=America/Toronto:20220910T190000
DTEND;TZID=America/Toronto:20220910T210000
DTSTAMP:20260421T052939
CREATED:20220906T194028Z
LAST-MODIFIED:20220906T194128Z
UID:6189-1662836400-1662843600@withrowmarket.ca
SUMMARY:Film Screening: In My Backyard
DESCRIPTION:Film Screening: In My Backyard\n\n\n\nWhen: Saturday\, September 10 @ 7pm\nWhere: The screening will happen in an East York backyard. Space is limited to 20 people.\nYou must RSVP for the address. Email: mariasolakofski@gmail.com\nSuggested donation: $20\n\n\n\nAn in-person screening of “In My Backyard” by local filmmaker Jamie Day Fleck. The film explores the inspiring and innovative urban agriculture projects across Toronto\, including some of our very own vendors from Withrow Market! Herbal snacks and beverages will be offered for free. See the trailer: https://vimeo.com/554894725\n\n\n\nIf you can’t join us in person\, you can also watch the film online here: fleckpro.com/films/backyard.\n\n\n\n\nPlease note\, this event is not in collaboration with Withrow Market. We hosted screenings of this film in August\, so we wanted to share this additional opportunity with our community. 
URL:https://withrowmarket.ca/event/film-screening-in-my-backyard/
CATEGORIES:Family Activity,Support our Community
ATTACH;FMTTYPE=image/jpeg:https://withrowmarket.ca/wp-content/uploads/2022/05/Jamie-Fleck-In-My-Backyard.jpg
END:VEVENT
BEGIN:VEVENT
DTSTART;TZID=America/Toronto:20220820T090000
DTEND;TZID=America/Toronto:20220820T130000
DTSTAMP:20260421T052939
CREATED:20220619T201118Z
LAST-MODIFIED:20220619T201118Z
UID:5877-1660986000-1661000400@withrowmarket.ca
SUMMARY:Eastview Community Center
DESCRIPTION:Our friend from Eastview Community Centre will be at Withrow Market bi-weekly to share information about their programming and to collect donations for their food bank program.  \nDonations for Eastview Neighbourhood Community Centre can be dropped off bi-weekly at starting Saturday\, June 11. \nDonations accepted also include laundry detergent\, toilet paper\, dish soap\, feminine products\, soap\, and shampoo/conditioner.
URL:https://withrowmarket.ca/event/eastview-community-center-5/
LOCATION:Withrow Park Farmers’ Market\, 725 Logan Avenue\, Toronto
CATEGORIES:Support our Community
ATTACH;FMTTYPE=image/jpeg:https://withrowmarket.ca/wp-content/uploads/2022/06/287101495_10162298068943298_3878757294518533709_n.jpeg
END:VEVENT
BEGIN:VEVENT
DTSTART;TZID=America/Toronto:20220806T090000
DTEND;TZID=America/Toronto:20220806T130000
DTSTAMP:20260421T052939
CREATED:20220619T201018Z
LAST-MODIFIED:20220619T201018Z
UID:5875-1659776400-1659790800@withrowmarket.ca
SUMMARY:Eastview Community Center
DESCRIPTION:Our friend from Eastview Community Centre will be at Withrow Market bi-weekly to share information about their programming and to collect donations for their food bank program.  \nDonations for Eastview Neighbourhood Community Centre can be dropped off bi-weekly at starting Saturday\, June 11. \nDonations accepted also include laundry detergent\, toilet paper\, dish soap\, feminine products\, soap\, and shampoo/conditioner.
URL:https://withrowmarket.ca/event/eastview-community-center-4/
LOCATION:Withrow Park Farmers’ Market\, 725 Logan Avenue\, Toronto
CATEGORIES:Support our Community
ATTACH;FMTTYPE=image/jpeg:https://withrowmarket.ca/wp-content/uploads/2022/06/287101495_10162298068943298_3878757294518533709_n.jpeg
END:VEVENT
BEGIN:VEVENT
DTSTART;TZID=America/Toronto:20220723T090000
DTEND;TZID=America/Toronto:20220723T130000
DTSTAMP:20260421T052939
CREATED:20220619T200916Z
LAST-MODIFIED:20220619T200916Z
UID:5873-1658566800-1658581200@withrowmarket.ca
SUMMARY:Eastview Community Center
DESCRIPTION:Our friend from Eastview Community Centre will be at Withrow Market bi-weekly to share information about their programming and to collect donations for their food bank program.  \nDonations for Eastview Neighbourhood Community Centre can be dropped off bi-weekly at starting Saturday\, June 11. \nDonations accepted also include laundry detergent\, toilet paper\, dish soap\, feminine products\, soap\, and shampoo/conditioner.
URL:https://withrowmarket.ca/event/eastview-community-center-3/
LOCATION:Withrow Park Farmers’ Market\, 725 Logan Avenue\, Toronto
CATEGORIES:Support our Community
ATTACH;FMTTYPE=image/jpeg:https://withrowmarket.ca/wp-content/uploads/2022/06/287101495_10162298068943298_3878757294518533709_n.jpeg
END:VEVENT
BEGIN:VEVENT
DTSTART;TZID=America/Toronto:20220709T170000
DTEND;TZID=America/Toronto:20220709T220000
DTSTAMP:20260421T052939
CREATED:20220701T052350Z
LAST-MODIFIED:20220701T052632Z
UID:5904-1657386000-1657404000@withrowmarket.ca
SUMMARY:East End Night Market
DESCRIPTION:5 East-end farmers markets and one super fun night! Join us at Greenwood Park from 5pm to 10pm for a night of good food\, drinks\, activities and live music. Over 60 amazing vendors!
URL:https://withrowmarket.ca/event/east-end-night-market/
LOCATION:Greenwood Park\, 150 Greenwood Ave\, Toronto\, Ontario\, M4L 2R1\, Canada
CATEGORIES:Family Activity,Live Music,Support our Community
ATTACH;FMTTYPE=image/png:https://withrowmarket.ca/wp-content/uploads/2022/07/East-End-Night-Market.png
END:VEVENT
BEGIN:VEVENT
DTSTART;TZID=America/Toronto:20220709T090000
DTEND;TZID=America/Toronto:20220709T130000
DTSTAMP:20260421T052939
CREATED:20220619T200716Z
LAST-MODIFIED:20220619T200716Z
UID:5871-1657357200-1657371600@withrowmarket.ca
SUMMARY:Eastview Community Center
DESCRIPTION:Our friend from Eastview Community Centre will be at Withrow Market bi-weekly to share information about their programming and to collect donations for their food bank program.  \nDonations for Eastview Neighbourhood Community Centre can be dropped off bi-weekly at starting Saturday\, June 11. \nDonations accepted also include laundry detergent\, toilet paper\, dish soap\, feminine products\, soap\, and shampoo/conditioner.
URL:https://withrowmarket.ca/event/eastview-community-center-2/
LOCATION:Withrow Park Farmers’ Market\, 725 Logan Avenue\, Toronto
CATEGORIES:Support our Community
ATTACH;FMTTYPE=image/jpeg:https://withrowmarket.ca/wp-content/uploads/2022/06/287101495_10162298068943298_3878757294518533709_n.jpeg
END:VEVENT
BEGIN:VEVENT
DTSTART;TZID=America/Toronto:20220625T090000
DTEND;TZID=America/Toronto:20220625T130000
DTSTAMP:20260421T052939
CREATED:20220619T200515Z
LAST-MODIFIED:20220619T200515Z
UID:5868-1656147600-1656162000@withrowmarket.ca
SUMMARY:Eastview Community Center
DESCRIPTION:Our friend from Eastview Community Centre will be at Withrow Market bi-weekly to share information about their programming and to collect donations for their food bank program.  \nDonations for Eastview Neighbourhood Community Centre can be dropped off bi-weekly at starting Saturday\, June 11. \nDonations accepted also include laundry detergent\, toilet paper\, dish soap\, feminine products\, soap\, and shampoo/conditioner.
URL:https://withrowmarket.ca/event/eastview-community-center/
LOCATION:Withrow Park Farmers’ Market\, 725 Logan Avenue\, Toronto
CATEGORIES:Support our Community
ATTACH;FMTTYPE=image/jpeg:https://withrowmarket.ca/wp-content/uploads/2022/06/287101495_10162298068943298_3878757294518533709_n.jpeg
END:VEVENT
END:VCALENDAR